BEGIN:VCALENDAR
VERSION:2.0
PRODID:-//Le site officiel de la Ville de Beaucaire - ECPv6.7.0//NONSGML v1.0//EN
CALSCALE:GREGORIAN
METHOD:PUBLISH
X-ORIGINAL-URL:https://www.beaucaire.fr
X-WR-CALDESC:Évènements pour Le site officiel de la Ville de Beaucaire
REFRESH-INTERVAL;VALUE=DURATION:PT1H
X-Robots-Tag:noindex
X-PUBLISHED-TTL:PT1H
BEGIN:VTIMEZONE
TZID:Europe/Paris
BEGIN:DAYLIGHT
TZOFFSETFROM:+0100
TZOFFSETTO:+0200
TZNAME:CEST
DTSTART:20210328T010000
END:DAYLIGHT
BEGIN:STANDARD
TZOFFSETFROM:+0200
TZOFFSETTO:+0100
TZNAME:CET
DTSTART:20211031T010000
END:STANDARD
END:VTIMEZONE
BEGIN:VEVENT
DTSTART;TZID=Europe/Paris:20211222T160000
DTEND;TZID=Europe/Paris:20211222T170000
DTSTAMP:20260422T145058
CREATED:20211221T135400Z
LAST-MODIFIED:20211221T135400Z
UID:56072-1640188800-1640192400@www.beaucaire.fr
SUMMARY:Bibliothèque Municipale : Spectacle Melusine
DESCRIPTION:Le mercredi 22 décembre à 16h se déroulera le spectacle Mélusine à la recherche de la neige.\nNoël approche à grands pas\, et Mélusine à hâte de faire un bonhomme de neige. Mais aucun signe de neige. Elle a disparu. Avec l’aide des enfants\, l’apprentie magicienne traversera le pays enchanté à la recherche de la neige. Elle rencontrera de nombreux animaux et le Père Noël. Comédiens et marionnettes vous enchanteront et vous feront chanter ! \nBibliothèque municipale\nAngle rue Roger Pascal / Cours Gambetta\nEntrée Gratuite – Mesure gourvenementale : Pass sanitaire \n 
URL:https://www.beaucaire.fr/evenement/bibliotheque-municipale-spectacle-melusine/
LOCATION:Bibliothèque Municipale\, 1 rue Roger Pascal\, Beaucaire\, 30300\, France
CATEGORIES:Spectacles
ATTACH;FMTTYPE=image/png:https://www.beaucaire.fr/wp-content/uploads/Melusine-RS.png
END:VEVENT
END:VCALENDAR