BEGIN:VCALENDAR
VERSION:2.0
PRODID:-//Le site officiel de la Ville de Beaucaire - ECPv6.7.0//NONSGML v1.0//EN
CALSCALE:GREGORIAN
METHOD:PUBLISH
X-ORIGINAL-URL:https://www.beaucaire.fr
X-WR-CALDESC:Évènements pour Le site officiel de la Ville de Beaucaire
REFRESH-INTERVAL;VALUE=DURATION:PT1H
X-Robots-Tag:noindex
X-PUBLISHED-TTL:PT1H
BEGIN:VTIMEZONE
TZID:Europe/Paris
BEGIN:DAYLIGHT
TZOFFSETFROM:+0100
TZOFFSETTO:+0200
TZNAME:CEST
DTSTART:20220327T010000
END:DAYLIGHT
BEGIN:STANDARD
TZOFFSETFROM:+0200
TZOFFSETTO:+0100
TZNAME:CET
DTSTART:20221030T010000
END:STANDARD
END:VTIMEZONE
BEGIN:VEVENT
DTSTART;TZID=Europe/Paris:20220701T190000
DTEND;TZID=Europe/Paris:20220701T230000
DTSTAMP:20260422T044314
CREATED:20220602T084226Z
LAST-MODIFIED:20220602T084407Z
UID:59285-1656702000-1656716400@www.beaucaire.fr
SUMMARY:Les Vendredis de Beaucaire : Élection de Miss Beaucaire 2022
DESCRIPTION:Les Vendredis de Beaucaire (anciennement Les Beaux Quais)\, animent le port de plaisance et le cœur de ville chaque vendredi de juillet et août. Les Beaucairois et les touristes viennent ainsi profiter\, dès 19h\, d’un marché nocturne de qualité le long du canal du Rhône à Sète. Les bars et restaurants de la ville organisent à cette occasion des animations musicales diverses et variées. L’ambiance y est décontractée\, il fait bon y flâner entre amis ou en famille. \nLes Vendredis de Beaucaire\, c’est aussi\, chaque vendredi de l’été dès 21h00\, un spectacle ou un concert gratuit sur la place Georges Clemenceau (devant la Mairie)\, offert par la Ville.\n– Dès 19h : Marché nocturne\, animations (Port de plaisance)\n– Dès 21h : SPECTACLES gratuits (Place Georges Clemenceau) \nAu programme ce vendredi 1er juillet 2022  : L’Élection de Miss Beaucaire\n– Dès 19h : Marché nocturne\, animations (Port de plaisance)\n– Dès 21h : Election de Miss Beaucaire 2022
URL:https://www.beaucaire.fr/evenement/les-vendredis-de-beaucaire-election-de-miss-beaucaire-2022/
LOCATION:Place Georges Clemenceau\, Place Georges Clemenceau\, Beaucaire\, 30300\, France
CATEGORIES:Spectacles
ATTACH;FMTTYPE=image/jpeg:https://www.beaucaire.fr/wp-content/uploads/Miss_Beaucaire_Languedoc-71.jpg
END:VEVENT
END:VCALENDAR