BEGIN:VCALENDAR
VERSION:2.0
PRODID:-//Le site officiel de la Ville de Beaucaire - ECPv6.7.0//NONSGML v1.0//EN
CALSCALE:GREGORIAN
METHOD:PUBLISH
X-ORIGINAL-URL:https://www.beaucaire.fr
X-WR-CALDESC:Évènements pour Le site officiel de la Ville de Beaucaire
REFRESH-INTERVAL;VALUE=DURATION:PT1H
X-Robots-Tag:noindex
X-PUBLISHED-TTL:PT1H
BEGIN:VTIMEZONE
TZID:Europe/Paris
BEGIN:DAYLIGHT
TZOFFSETFROM:+0100
TZOFFSETTO:+0200
TZNAME:CEST
DTSTART:20220327T010000
END:DAYLIGHT
BEGIN:STANDARD
TZOFFSETFROM:+0200
TZOFFSETTO:+0100
TZNAME:CET
DTSTART:20221030T010000
END:STANDARD
END:VTIMEZONE
BEGIN:VEVENT
DTSTART;TZID=Europe/Paris:20220708T190000
DTEND;TZID=Europe/Paris:20220708T210000
DTSTAMP:20260422T044212
CREATED:20220602T074454Z
LAST-MODIFIED:20220602T074454Z
UID:59290-1657306800-1657314000@www.beaucaire.fr
SUMMARY:Les Vendredis de Beaucaire : Spectacle Équestre
DESCRIPTION:Les Vendredis de Beaucaire (anciennement Les Beaux Quais)\, animent le port de plaisance et le cœur de ville chaque vendredi de juillet et août. Les Beaucairois et les touristes viennent ainsi profiter\, dès 19h\, d’un marché artisanal de qualité le long du canal du Rhône à Sète. Les bars et restaurants de la ville organisent à cette occasion des animations musicales diverses et variées. L’ambiance y est décontractée\, il fait bon y flâner entre amis ou en famille. Les Vendredis de Beaucaire\, c’est aussi\, chaque vendredi de l’été dès 21h30\, un spectacle ou un concert gratuit sur la place Georges Clemenceau (devant la Mairie)\, offert par la Ville.\n– Dès 19h : Marché nocturne\, artistes de rue et déambulations (Port de plaisance)\n– Dès 21h : Grand spectacle équestre (Place Georges Clemenceau) \n> Un événement gratuit\, proposé par la Mairie de Beaucaire.
URL:https://www.beaucaire.fr/evenement/les-vendredis-de-beaucaire-spectacle-equestre/
LOCATION:Place Georges Clemenceau\, Place Georges Clemenceau\, Beaucaire\, 30300\, France
CATEGORIES:Spectacles
ATTACH;FMTTYPE=image/jpeg:https://www.beaucaire.fr/wp-content/uploads/2019/07/rencontres-equestres-2019-Julien-Sanchez-10-1.jpg
END:VEVENT
BEGIN:VEVENT
DTSTART;TZID=Europe/Paris:20220708T213000
DTEND;TZID=Europe/Paris:20220710T233000
DTSTAMP:20260422T044212
CREATED:20220602T074435Z
LAST-MODIFIED:20220706T124939Z
UID:59301-1657315800-1657495800@www.beaucaire.fr
SUMMARY:Les Rencontres Équestres 2022
DESCRIPTION:Cette grande manifestation\, qui rayonne bien au-delà de nos frontières\, se déroule pendant 3 jours au Champ de Foire. Plusieurs centaines de chevaux\, Championnats de France Modèle et Allure des pures races Espagnols\, équitation western\, concours de dressage\, MCI (Master Cheval Ibérique)\, animations enfants\, Horseball…\nGratuit. \nGrands spectacles équestres \nVendredi 8 Juillet 21h30 | Place Georges Clemenceau  et Samedi 9 Juillet 21h30 | Champ de foire \n  \n  \nOrganisé par la Mairie de Beaucaire\nInformations au 04 66 59 10 06 et sur www.beaucaire.fr\nChamp de Foire
URL:https://www.beaucaire.fr/evenement/les-rencontres-equestres-2022/
LOCATION:Champ de foire\, Champ de foire\, Beaucaire\, 30300\, France
CATEGORIES:Spectacles
ATTACH;FMTTYPE=image/jpeg:https://www.beaucaire.fr/wp-content/uploads/2019/07/rencontres-equestres-2019-Julien-Sanchez-14-1.jpg
END:VEVENT
END:VCALENDAR