BEGIN:VCALENDAR
VERSION:2.0
PRODID:-//Le site officiel de la Ville de Beaucaire - ECPv6.7.0//NONSGML v1.0//EN
CALSCALE:GREGORIAN
METHOD:PUBLISH
X-ORIGINAL-URL:https://www.beaucaire.fr
X-WR-CALDESC:Évènements pour Le site officiel de la Ville de Beaucaire
REFRESH-INTERVAL;VALUE=DURATION:PT1H
X-Robots-Tag:noindex
X-PUBLISHED-TTL:PT1H
BEGIN:VTIMEZONE
TZID:Europe/Paris
BEGIN:DAYLIGHT
TZOFFSETFROM:+0100
TZOFFSETTO:+0200
TZNAME:CEST
DTSTART:20230326T010000
END:DAYLIGHT
BEGIN:STANDARD
TZOFFSETFROM:+0200
TZOFFSETTO:+0100
TZNAME:CET
DTSTART:20231029T010000
END:STANDARD
END:VTIMEZONE
BEGIN:VEVENT
DTSTART;TZID=Europe/Paris:20230701T130000
DTEND;TZID=Europe/Paris:20230701T190000
DTSTAMP:20260425T203141
CREATED:20230627T062214Z
LAST-MODIFIED:20230628T061645Z
UID:72930-1688216400-1688238000@www.beaucaire.fr
SUMMARY:Grande tyrolienne
DESCRIPTION:Une occasion unique de survoler le Rhône ! Sensations fortes garanties. À partir de 8 ans. Traversée aller-retour au dessus du Rhône. \nInformations au 04 66 59 37 55 ou au 06 11 36 53 51. Gratuit. \nBerges au sud de la Base Nautique municipale\, Champ de Foire
URL:https://www.beaucaire.fr/evenement/grande-tyrolienne/
LOCATION:Base nautique municipale\, Champ de foire\, Beaucaire\, 30300\, France Métropolitaine
CATEGORIES:Sports
ATTACH;FMTTYPE=image/jpeg:https://www.beaucaire.fr/wp-content/uploads/accrobranche_beaucaire-15-scaled.jpg
END:VEVENT
BEGIN:VEVENT
DTSTART;TZID=Europe/Paris:20230705T144500
DTEND;TZID=Europe/Paris:20230705T170000
DTSTAMP:20260425T203141
CREATED:20230703T121048Z
LAST-MODIFIED:20230703T121457Z
UID:73320-1688568300-1688576400@www.beaucaire.fr
SUMMARY:Activité paddle
DESCRIPTION:Organisée par la Mairie de Beaucaire. Découverte du Paddle sur le canal de Beaucaire. À partir de 7 ans accompagné et de 9 ans en autonomie. Informations et inscriptions (obligatoires) au 04 66 59 37 55 ou au 06 11 36 53 51. Gratuit.\nCanal de Beaucaire\, côté quai de la Paix
URL:https://www.beaucaire.fr/evenement/activite-paddle-5/
LOCATION:Canal de Beaucaire
CATEGORIES:Sports
ATTACH;FMTTYPE=image/jpeg:https://www.beaucaire.fr/wp-content/uploads/11_Activite-paddle_DSF5121-11.jpg
END:VEVENT
BEGIN:VEVENT
DTSTART;TZID=Europe/Paris:20230707T080000
DTEND;TZID=Europe/Paris:20230714T170000
DTSTAMP:20260425T203141
CREATED:20230704T095735Z
LAST-MODIFIED:20230704T101447Z
UID:73378-1688716800-1689354000@www.beaucaire.fr
SUMMARY:Les Rencontres Équestres 2023
DESCRIPTION:Cette grande manifestation\, qui rayonne bien au-delà de nos frontières\, se déroule pendant 3 jours au Champ de Foire. Plusieurs centaines de chevaux\, Championnats de France Modèle et Allure des pures races Espagnols\, équitation western\, concours de dressage\, MCI (Master Cheval Ibérique)\, animations enfants\, Horseball…\nGratuit. \nGrands spectacles équestres \nSamedi 8 Juillet 21h30 | Champ de foire et Vendredi 14 Juillet 21h30 | Place Georges Clemenceau \n  \n  \nOrganisé par la Mairie de Beaucaire\nInformations au 04 66 59 10 06 et sur www.beaucaire.fr\nChamp de Foire \n \n 
URL:https://www.beaucaire.fr/evenement/les-rencontres-equestres-2023/
LOCATION:Champ de foire\, Champ de foire\, Beaucaire\, 30300\, France
CATEGORIES:Événements,Les Vendredis de Beaucaire,Spectacles,Sports
ATTACH;FMTTYPE=image/jpeg:https://www.beaucaire.fr/wp-content/uploads/2019/07/rencontres-equestres-2019-Julien-Sanchez-14.jpg
END:VEVENT
BEGIN:VEVENT
DTSTART;TZID=Europe/Paris:20230712T140000
DTEND;TZID=Europe/Paris:20230712T180000
DTSTAMP:20260425T203141
CREATED:20230704T123902Z
LAST-MODIFIED:20230704T123902Z
UID:73419-1689170400-1689184800@www.beaucaire.fr
SUMMARY:Promenade sur le rhône
DESCRIPTION:Découverte du plan d’eau à la voile\, de la faune\, la flore et de l’environnement du Rhône de Beaucaire avec la collaboration du club Voile Plaisir. À partir de 8 ans. Sous réserve de conditions météo favorables. Inscriptions (obligatoires) et infos au 04 66 59 37 55 / 06 11 36 53 51.\nGratuit. Organisée par la Mairie de Beaucaire.
URL:https://www.beaucaire.fr/evenement/promenade-sur-le-rhone/
LOCATION:Base nautique municipale\, Champ de foire\, Beaucaire\, 30300\, France Métropolitaine
CATEGORIES:Sports
ATTACH;FMTTYPE=image/jpeg:https://www.beaucaire.fr/wp-content/uploads/1_Voile-et-Paddle_DSC7072-13.jpg
END:VEVENT
BEGIN:VEVENT
DTSTART;TZID=Europe/Paris:20230715T130000
DTEND;TZID=Europe/Paris:20230715T190000
DTSTAMP:20260425T203141
CREATED:20230703T091018Z
LAST-MODIFIED:20230703T091018Z
UID:73208-1689426000-1689447600@www.beaucaire.fr
SUMMARY:Grande tyrolienne
DESCRIPTION:Une occasion unique de survoler le Rhône ! Sensations fortes garanties. À partir de 8 ans. Traversée aller-retour au dessus du Rhône. \nInformations au 04 66 59 37 55 ou au 06 11 36 53 51. Gratuit. \nBerges au sud de la Base Nautique municipale\, Champ de Foire
URL:https://www.beaucaire.fr/evenement/grande-tyrolienne-2/
LOCATION:Base nautique municipale\, Champ de foire\, Beaucaire\, 30300\, France Métropolitaine
CATEGORIES:Sports
ATTACH;FMTTYPE=image/jpeg:https://www.beaucaire.fr/wp-content/uploads/accrobranche_beaucaire-15-scaled.jpg
END:VEVENT
BEGIN:VEVENT
DTSTART;TZID=Europe/Paris:20230719T090000
DTEND;TZID=Europe/Paris:20230719T120000
DTSTAMP:20260425T203141
CREATED:20230718T094828Z
LAST-MODIFIED:20230718T094828Z
UID:74940-1689757200-1689768000@www.beaucaire.fr
SUMMARY:Pêche au carrelet
DESCRIPTION:Dès 12 ans. Places limitées.\nGratuit.\nOrganisée par la Mairie de Beaucaire en partenariat avec la fédération de pêche du Gard.\nInformations et réservations au 04 66 59 37 55 ou au 06 11 36 53 51.\nBase Nautique Municipale Adrien Hardy\, 20 allée du Drac\, Champ de Foire
URL:https://www.beaucaire.fr/evenement/peche-au-carrelet-3/
LOCATION:Base nautique municipale\, Champ de foire\, Beaucaire\, 30300\, France Métropolitaine
CATEGORIES:Sports
ATTACH;FMTTYPE=image/jpeg:https://www.beaucaire.fr/wp-content/uploads/DSC_3938-1-scaled.jpg
END:VEVENT
BEGIN:VEVENT
DTSTART;TZID=Europe/Paris:20230719T134500
DTEND;TZID=Europe/Paris:20230719T170000
DTSTAMP:20260425T203141
CREATED:20230704T121551Z
LAST-MODIFIED:20230717T133312Z
UID:73374-1689774300-1689786000@www.beaucaire.fr
SUMMARY:Activité voile ou paddle
DESCRIPTION:Selon la météo. Organisée par la Mairie de Beaucaire. À partir de 7 ans accompagné et de 9 ans en autonomie. \nInformations et inscriptions (obligatoires) au 04 66 59 37 55 ou au 06 11 36 53 51. Gratuit.\nBase Nautique Municipale Adrien Hardy\, 20 allée du Drac\, Champ de Foire
URL:https://www.beaucaire.fr/evenement/activite-voile-ou-paddle-2/
LOCATION:Base nautique municipale\, Champ de foire\, Beaucaire\, 30300\, France Métropolitaine
CATEGORIES:Sports
ATTACH;FMTTYPE=image/jpeg:https://www.beaucaire.fr/wp-content/uploads/12_Activite-paddle_DSF5219-12.jpg
END:VEVENT
BEGIN:VEVENT
DTSTART;TZID=Europe/Paris:20230722T130000
DTEND;TZID=Europe/Paris:20230722T190000
DTSTAMP:20260425T203141
CREATED:20230703T091451Z
LAST-MODIFIED:20230703T091451Z
UID:73316-1690030800-1690052400@www.beaucaire.fr
SUMMARY:Grande tyrolienne
DESCRIPTION:Une occasion unique de survoler le Rhône ! Sensations fortes garanties. À partir de 8 ans. Traversée aller-retour au dessus du Rhône. \nInformations au 04 66 59 37 55 ou au 06 11 36 53 51. Gratuit. \nBerges au sud de la Base Nautique municipale\, Champ de Foire
URL:https://www.beaucaire.fr/evenement/grande-tyrolienne-3/
LOCATION:Base nautique municipale\, Champ de foire\, Beaucaire\, 30300\, France Métropolitaine
CATEGORIES:Sports
ATTACH;FMTTYPE=image/jpeg:https://www.beaucaire.fr/wp-content/uploads/accrobranche_beaucaire-15-scaled.jpg
END:VEVENT
BEGIN:VEVENT
DTSTART;TZID=Europe/Paris:20230722T150000
DTEND;TZID=Europe/Paris:20230722T190000
DTSTAMP:20260425T203141
CREATED:20230704T132223Z
LAST-MODIFIED:20230718T090041Z
UID:73425-1690038000-1690052400@www.beaucaire.fr
SUMMARY:activité trottinette
DESCRIPTION:Découverte et initiation. À partir de 8 ans. Matériel fourni. \nOrganisée par la Mairie de Beaucaire. \nGratuit. \nInformations et inscriptions (obligatoires) au 04 66 59 37 55 ou au 06 11 36 53 51.
URL:https://www.beaucaire.fr/evenement/activite-trottinette/
LOCATION:Skatepark\, Champ de Foire\, Champ de Foire\, Beaucaire\, 30300\, France
CATEGORIES:Sports
ATTACH;FMTTYPE=image/jpeg:https://www.beaucaire.fr/wp-content/uploads/half-pipe-gf6ecad4b1_1280.jpg
END:VEVENT
BEGIN:VEVENT
DTSTART;TZID=Europe/Paris:20230726T134500
DTEND;TZID=Europe/Paris:20230726T170000
DTSTAMP:20260425T203141
CREATED:20230704T085601Z
LAST-MODIFIED:20230717T132952Z
UID:73207-1690379100-1690390800@www.beaucaire.fr
SUMMARY:Activité voile ou paddle
DESCRIPTION:Selon la météo. Organisée par la Mairie de Beaucaire. À partir de 7 ans accompagné et de 9 ans en autonomie. \nInformations et inscriptions (obligatoires) au 04 66 59 37 55 ou au 06 11 36 53 51. Gratuit.\nBase Nautique Municipale Adrien Hardy\, 20 allée du Drac\, Champ de Foire
URL:https://www.beaucaire.fr/evenement/activite-voile-ou-paddle/
LOCATION:Base nautique municipale\, Champ de foire\, Beaucaire\, 30300\, France Métropolitaine
CATEGORIES:Sports
ATTACH;FMTTYPE=image/jpeg:https://www.beaucaire.fr/wp-content/uploads/Paddle-Canal-Beaucaire-18.jpg
END:VEVENT
BEGIN:VEVENT
DTSTART;TZID=Europe/Paris:20230729T130000
DTEND;TZID=Europe/Paris:20230729T190000
DTSTAMP:20260425T203141
CREATED:20230703T092309Z
LAST-MODIFIED:20230724T144006Z
UID:73315-1690635600-1690657200@www.beaucaire.fr
SUMMARY:Grande tyrolienne
DESCRIPTION:Une occasion unique de survoler le Rhône ! Sensations fortes garanties. À partir de 8 ans. Traversée aller-retour au dessus du Rhône. \nInformations au 04 66 59 37 55 ou au 06 11 36 53 51. Gratuit. \nBerges au sud de la Base Nautique municipale\, Champ de Foire
URL:https://www.beaucaire.fr/evenement/grande-tyrolienne-4/
LOCATION:Base nautique municipale\, Champ de foire\, Beaucaire\, 30300\, France Métropolitaine
CATEGORIES:Sports
END:VEVENT
END:VCALENDAR