BEGIN:VCALENDAR
VERSION:2.0
PRODID:-//Le site officiel de la Ville de Beaucaire - ECPv6.7.0//NONSGML v1.0//EN
CALSCALE:GREGORIAN
METHOD:PUBLISH
X-ORIGINAL-URL:https://www.beaucaire.fr
X-WR-CALDESC:Évènements pour Le site officiel de la Ville de Beaucaire
REFRESH-INTERVAL;VALUE=DURATION:PT1H
X-Robots-Tag:noindex
X-PUBLISHED-TTL:PT1H
BEGIN:VTIMEZONE
TZID:Europe/Paris
BEGIN:DAYLIGHT
TZOFFSETFROM:+0100
TZOFFSETTO:+0200
TZNAME:CEST
DTSTART:20230326T010000
END:DAYLIGHT
BEGIN:STANDARD
TZOFFSETFROM:+0200
TZOFFSETTO:+0100
TZNAME:CET
DTSTART:20231029T010000
END:STANDARD
END:VTIMEZONE
BEGIN:VEVENT
DTSTART;TZID=Europe/Paris:20230902T130000
DTEND;TZID=Europe/Paris:20230902T190000
DTSTAMP:20260425T174021
CREATED:20230704T135817Z
LAST-MODIFIED:20230704T135817Z
UID:73452-1693659600-1693681200@www.beaucaire.fr
SUMMARY:Grande tyrolienne
DESCRIPTION:Une occasion unique de survoler le Rhône ! Sensations fortes garanties. À partir de 8 ans. Traversée aller-retour au dessus du Rhône. \nInformations au 04 66 59 37 55 ou au 06 11 36 53 51. Gratuit. \nBerges au sud de la Base Nautique municipale\, Champ de Foire
URL:https://www.beaucaire.fr/evenement/grande-tyrolienne-9/
LOCATION:Base nautique municipale\, Champ de foire\, Beaucaire\, 30300\, France Métropolitaine
CATEGORIES:Sports
END:VEVENT
BEGIN:VEVENT
DTSTART;TZID=Europe/Paris:20230924T080000
DTEND;TZID=Europe/Paris:20230924T130000
DTSTAMP:20260425T174021
CREATED:20230912T164310Z
LAST-MODIFIED:20230914T100417Z
UID:79161-1695542400-1695560400@www.beaucaire.fr
SUMMARY:Gambade de Saint Roman
DESCRIPTION:La Gambade de Saint-Roman revient le 24 septembre à Beaucaire !\nEnvie d’y participer ? Les inscriptions sont ouvertes ! \nOrganisé par le club Courir à Beaucaire en partenariat avec la Mairie de Beaucaire. \n🗓 Dimanche 24 septembre 2023\n🏃‍♂️ Petite gambade 4.5 km 120 D+\n🏃🏻‍♂️ Gambade 12 km 275 D+\n🏃🏽‍♂️ Ugernum Trail Beaucaire 24 km 800 D+\n🚶 Marche Nordique chronométrée 10 km\n🥾 Randonnée 10 km \nHoraires : \n\n9h – 24km 800D+\n9h05 – Course enfant\n10h – Gambade 12km 275 D+ (Nouveau parcours 2023)\n10h05 – Marche nordique / Randonnée 10 km\n10h15 Petite Gambade 4\,5km 120 D+ (Nouveau parcours 2023)\n\n  \nInscriptions sur endurancechrono.com\n> Départs du Casino Municipal
URL:https://www.beaucaire.fr/evenement/gambade-de-saint-roman-3/
LOCATION:Casino Municipal\, 1\, allée du Casino\, Beaucaire\, 30300\, France
CATEGORIES:Événements,Sports
ATTACH;FMTTYPE=image/jpeg:https://www.beaucaire.fr/wp-content/uploads/gambade_st-roman_beaucaire-24.jpg
END:VEVENT
END:VCALENDAR