BEGIN:VCALENDAR
VERSION:2.0
PRODID:-//Le site officiel de la Ville de Beaucaire - ECPv6.7.0//NONSGML v1.0//EN
CALSCALE:GREGORIAN
METHOD:PUBLISH
X-ORIGINAL-URL:https://www.beaucaire.fr
X-WR-CALDESC:Évènements pour Le site officiel de la Ville de Beaucaire
REFRESH-INTERVAL;VALUE=DURATION:PT1H
X-Robots-Tag:noindex
X-PUBLISHED-TTL:PT1H
BEGIN:VTIMEZONE
TZID:Europe/Paris
BEGIN:DAYLIGHT
TZOFFSETFROM:+0100
TZOFFSETTO:+0200
TZNAME:CEST
DTSTART:20250330T010000
END:DAYLIGHT
BEGIN:STANDARD
TZOFFSETFROM:+0200
TZOFFSETTO:+0100
TZNAME:CET
DTSTART:20251026T010000
END:STANDARD
END:VTIMEZONE
BEGIN:VEVENT
DTSTART;TZID=Europe/Paris:20250707T080000
DTEND;TZID=Europe/Paris:20250829T170000
DTSTAMP:20260423T164939
CREATED:20250625T130036Z
LAST-MODIFIED:20250625T130036Z
UID:91734-1751875200-1756486800@www.beaucaire.fr
SUMMARY:STAGE DE VOILE ET DE PADDLE
DESCRIPTION:Envie de sensations fortes ? Venez participer à un stage de voile et multisports d’une semaine (selon la météo : paddle\, VTT\, jeux d’équipes…). Apprentissage de la navigation\, de la météo\, des noeuds marins\, de la faune et la flore… À partir de 9 ans (Test anti panique obligatoire). Tarif : 98€ la semaine. Organisé par la Mairie de Beaucaire.\nInfos : 04 66 59 37 55 / 06 11 36 53 51 / base.nautique@beaucaire.fr.
URL:https://www.beaucaire.fr/evenement/stage-de-voile-et-de-paddle-3/
LOCATION:Base nautique municipale\, Champ de foire\, Beaucaire\, 30300\, France Métropolitaine
CATEGORIES:Sports,Stage de voile et et de paddle
ATTACH;FMTTYPE=image/webp:https://www.beaucaire.fr/wp-content/uploads/20241002-Ecole-de-voile-14.webp
END:VEVENT
BEGIN:VEVENT
DTSTART;TZID=Europe/Paris:20250802T130000
DTEND;TZID=Europe/Paris:20250802T190000
DTSTAMP:20260423T164939
CREATED:20250622T123106Z
LAST-MODIFIED:20250622T123106Z
UID:91344-1754139600-1754161200@www.beaucaire.fr
SUMMARY:Grande Tyrolienne
DESCRIPTION:Une occasion unique de survoler le Rhône ! \nSensations fortes garanties \nÀ partir de 10 ans. \nTraversée aller-retour au dessus du Rhône. \nInformations au 04 66 59 37 55 ou au 06 11 36 53 51. \nGratuit. \nOrganisée par la Mairie de Beaucaire. \n> Berges au sud de la Base Nautique Municipale Adrien Hardy\, Champ de Foire
URL:https://www.beaucaire.fr/evenement/grande-tyrolienne-17/
LOCATION:Base nautique municipale\, Champ de foire\, Beaucaire\, 30300\, France Métropolitaine
CATEGORIES:Événements,Sports
ATTACH;FMTTYPE=image/jpeg:https://www.beaucaire.fr/wp-content/uploads/tyrolienne_beaucaire-10-2.jpg
END:VEVENT
BEGIN:VEVENT
DTSTART;TZID=Europe/Paris:20250804T090000
DTEND;TZID=Europe/Paris:20250926T170000
DTSTAMP:20260423T164939
CREATED:20250617T083812Z
LAST-MODIFIED:20250622T123319Z
UID:90567-1754298000-1758906000@www.beaucaire.fr
SUMMARY:Stage de voile et de paddle Été 2025
DESCRIPTION:DU 4 AOÛT AU 29 AOÛT : STAGE DE VOILE ET DE PADDLE\n\nEnvie de sensations fortes ?\nVenez participer à un stage de voile et multisports d’une semaine (selon la météo : paddle\, VTT\, jeux d’équipes…).\nApprentissage de la navigation\, de la météo\, des nœuds marins\, de la faune et la flore…\nLe stage se terminera par une surprise et un goûter.\nEnfants de 9 ans à 14 ans (Test anti panique ou Brevet de 25m obligatoire).\nTarif : 98€ la semaine/enfant.\nOrganisé par la Mairie de Beaucaire.\nInformations et prise de RDV : 04 66 59 37 55 / 06 11 36 53 51 / base.nautique@beaucaire.fr.\n\n> Base Nautique Municipale Adrien Hardy\, 20 allée du Drac\, Champ de Foire
URL:https://www.beaucaire.fr/evenement/stage-de-voile-et-de-paddle-ete-2025/
LOCATION:Base nautique municipale\, Champ de foire\, Beaucaire\, 30300\, France Métropolitaine
CATEGORIES:Sports,Stage de voile et et de paddle
ATTACH;FMTTYPE=image/webp:https://www.beaucaire.fr/wp-content/uploads/RS-stage-de-voiles-ete-2025-scaled.webp
END:VEVENT
BEGIN:VEVENT
DTSTART;TZID=Europe/Paris:20250806T134500
DTEND;TZID=Europe/Paris:20250806T170000
DTSTAMP:20260423T164939
CREATED:20250622T124029Z
LAST-MODIFIED:20250622T124029Z
UID:91346-1754487900-1754499600@www.beaucaire.fr
SUMMARY:Activité voile ou paddle
DESCRIPTION:MERCREDI 6 AOÛT | DE 13H45 À 15H15 ET DE 15H30 À 17H\nACTIVITÉ VOILE OU PADDLE\nInitiation aux sports nautiques organisée par la Mairie de Beaucaire.\nSelon la météo.\nÀ partir de 7 ans accompagné et de 9 ans en autonomie.\nInformations et inscriptions (obligatoires) au 04 66 59 37 55 ou au 06 11 36 53 51.\nGratuit.\n> Base Nautique Municipale Adrien Hardy\, 20 allée du Drac\, Champ de Foire
URL:https://www.beaucaire.fr/evenement/activite-voile-ou-paddle-16/
LOCATION:Base nautique municipale\, Champ de foire\, Beaucaire\, 30300\, France Métropolitaine
CATEGORIES:Sports
ATTACH;FMTTYPE=image/jpeg:https://www.beaucaire.fr/wp-content/uploads/activite-voile-ou-paddle-2-24.jpg
END:VEVENT
BEGIN:VEVENT
DTSTART;TZID=Europe/Paris:20250813T090000
DTEND;TZID=Europe/Paris:20250813T120000
DTSTAMP:20260423T164939
CREATED:20250622T133744Z
LAST-MODIFIED:20250622T171451Z
UID:91361-1755075600-1755086400@www.beaucaire.fr
SUMMARY:Promenade environnementale
DESCRIPTION:MERCREDI 13 AOÛT | DE 9H À 12H\nPROMENADE ENVIRONNEMENTALE\nBalade à vélo commentée le long du Rhône. À partir de 12 ans.\nOrganisée par la Mairie de Beaucaire.\nInformations et inscriptions (obligatoires) au 06 48 82 91 62. Gratuit.\nDépart de la Base Nautique Municipale Adrien Hardy\,\n20 allée du Drac\, Champ de Foire
URL:https://www.beaucaire.fr/evenement/promenade-environnementale-11/
LOCATION:Base nautique municipale\, Champ de foire\, Beaucaire\, 30300\, France Métropolitaine
CATEGORIES:Promenade environnementale,Sports
ATTACH;FMTTYPE=image/jpeg:https://www.beaucaire.fr/wp-content/uploads/20240731-Promenade-environnementale-6-1.jpg
END:VEVENT
BEGIN:VEVENT
DTSTART;TZID=Europe/Paris:20250813T134500
DTEND;TZID=Europe/Paris:20250813T170000
DTSTAMP:20260423T164939
CREATED:20250622T135206Z
LAST-MODIFIED:20250622T171509Z
UID:91367-1755092700-1755104400@www.beaucaire.fr
SUMMARY:Activité voile ou paddle
DESCRIPTION:MERCREDI 13 AOÛT | DE 13H45 À 15H15 ET DE 15H30 À 17H\nACTIVITÉ VOILE OU PADDLE\nInitiation aux sports nautiques organisée par la Mairie de Beaucaire.\nSelon la météo.\nÀ partir de 7 ans accompagné et de 9 ans en autonomie.\nInformations et inscriptions (obligatoires) au 04 66 59 37 55 ou au 06 11 36 53 51.\nGratuit.\n> Base Nautique Municipale Adrien Hardy\, 20 allée du Drac\, Champ de Foire
URL:https://www.beaucaire.fr/evenement/activite-voile-ou-paddle-17/
LOCATION:Base nautique municipale\, Champ de foire\, Beaucaire\, 30300\, France Métropolitaine
CATEGORIES:Sports,Stage de voile et et de paddle
ATTACH;FMTTYPE=image/jpeg:https://www.beaucaire.fr/wp-content/uploads/activite-voile-ou-paddle-2-24.jpg
END:VEVENT
BEGIN:VEVENT
DTSTART;TZID=Europe/Paris:20250816T130000
DTEND;TZID=Europe/Paris:20250816T190000
DTSTAMP:20260423T164939
CREATED:20250622T171622Z
LAST-MODIFIED:20250622T171622Z
UID:91424-1755349200-1755370800@www.beaucaire.fr
SUMMARY:Grande Tyrolienne
DESCRIPTION:Une occasion unique de survoler le Rhône ! \nSensations fortes garanties \nÀ partir de 10 ans. \nTraversée aller-retour au dessus du Rhône. \nInformations au 04 66 59 37 55 ou au 06 11 36 53 51. \nGratuit. \nOrganisée par la Mairie de Beaucaire. \n> Berges au sud de la Base Nautique Municipale Adrien Hardy\, Champ de Foire
URL:https://www.beaucaire.fr/evenement/grande-tyrolienne-18/
LOCATION:Base nautique municipale\, Champ de foire\, Beaucaire\, 30300\, France Métropolitaine
CATEGORIES:Événements,Sports
ATTACH;FMTTYPE=image/jpeg:https://www.beaucaire.fr/wp-content/uploads/tyrolienne_beaucaire-10-2.jpg
END:VEVENT
BEGIN:VEVENT
DTSTART;TZID=Europe/Paris:20250830T150000
DTEND;TZID=Europe/Paris:20250830T150000
DTSTAMP:20260423T164939
CREATED:20250710T125409Z
LAST-MODIFIED:20250710T125409Z
UID:92878-1756566000-1756566000@www.beaucaire.fr
SUMMARY:ACTIVITÉ TROTTINETTE
DESCRIPTION:Découverte et initiation à partir de 8 ans. Matériel fourni. \nInformations et inscriptions (obligatoires) au 04 66 59 37 55 ou au 06 11 36 53 51. \nGratuit.
URL:https://www.beaucaire.fr/evenement/activite-trottinette-5/
LOCATION:Skatepark\, Champ de Foire\, Champ de Foire\, Beaucaire\, 30300\, France
CATEGORIES:Sports
ATTACH;FMTTYPE=image/jpeg:https://www.beaucaire.fr/wp-content/uploads/Trottinette-11.jpg
END:VEVENT
END:VCALENDAR