BEGIN:VCALENDAR
VERSION:2.0
PRODID:-//Le site officiel de la Ville de Beaucaire - ECPv6.7.0//NONSGML v1.0//EN
CALSCALE:GREGORIAN
METHOD:PUBLISH
X-ORIGINAL-URL:https://www.beaucaire.fr
X-WR-CALDESC:Évènements pour Le site officiel de la Ville de Beaucaire
REFRESH-INTERVAL;VALUE=DURATION:PT1H
X-Robots-Tag:noindex
X-PUBLISHED-TTL:PT1H
BEGIN:VTIMEZONE
TZID:Europe/Paris
BEGIN:DAYLIGHT
TZOFFSETFROM:+0100
TZOFFSETTO:+0200
TZNAME:CEST
DTSTART:20230326T010000
END:DAYLIGHT
BEGIN:STANDARD
TZOFFSETFROM:+0200
TZOFFSETTO:+0100
TZNAME:CET
DTSTART:20231029T010000
END:STANDARD
END:VTIMEZONE
BEGIN:VEVENT
DTSTART;VALUE=DATE:20230801
DTEND;VALUE=DATE:20230901
DTSTAMP:20260425T203351
CREATED:20230704T133702Z
LAST-MODIFIED:20230704T133702Z
UID:73431-1690848000-1693526399@www.beaucaire.fr
SUMMARY:Stage de voile et paddle
DESCRIPTION:Envie de sensations fortes ? Venez participer à un stage de voile et multisports d’une semaine (selon la météo : paddle\, VTT\, jeux d’équipes…). Apprentissage de la navigation\, de la météo\, des nœuds marins\, de la faune et la flore… Le stage se terminera par une surprise et un goûter. À partir de 9 ans (Test anti panique obligatoire). \nTarif : 98€ la semaine. \nInformations : 04 66 59 37 55 / 06 11 36 53 51 / base.nautique@beaucaire.fr \nBase Nautique Municipale Adrien Hardy\, 20 allée du Drac\, Champ de Foire
URL:https://www.beaucaire.fr/evenement/stage-de-voile-et-paddle-3/
LOCATION:Base nautique municipale\, Champ de foire\, Beaucaire\, 30300\, France Métropolitaine
CATEGORIES:Sports
ATTACH;FMTTYPE=image/jpeg:https://www.beaucaire.fr/wp-content/uploads/4_Voile-et-Paddle_DSC7047-9.jpg
END:VEVENT
BEGIN:VEVENT
DTSTART;TZID=Europe/Paris:20230805T130000
DTEND;TZID=Europe/Paris:20230805T190000
DTSTAMP:20260425T203351
CREATED:20230704T134511Z
LAST-MODIFIED:20230724T143613Z
UID:73436-1691240400-1691262000@www.beaucaire.fr
SUMMARY:Grande tyrolienne
DESCRIPTION:Une occasion unique de survoler le Rhône ! Sensations fortes garanties. À partir de 8 ans. Traversée aller-retour au dessus du Rhône. \nInformations au 04 66 59 37 55 ou au 06 11 36 53 51. Gratuit. \nBerges au sud de la Base Nautique municipale\, Champ de Foire
URL:https://www.beaucaire.fr/evenement/grande-tyrolienne-5/
LOCATION:Base nautique municipale\, Champ de foire\, Beaucaire\, 30300\, France Métropolitaine
CATEGORIES:Sports
ATTACH;FMTTYPE=image/jpeg:https://www.beaucaire.fr/wp-content/uploads/accrobranche_beaucaire-15-min-scaled.jpg
END:VEVENT
END:VCALENDAR