BEGIN:VCALENDAR
VERSION:2.0
PRODID:-//Le site officiel de la Ville de Beaucaire - ECPv6.7.0//NONSGML v1.0//EN
CALSCALE:GREGORIAN
METHOD:PUBLISH
X-ORIGINAL-URL:https://www.beaucaire.fr
X-WR-CALDESC:Évènements pour Le site officiel de la Ville de Beaucaire
REFRESH-INTERVAL;VALUE=DURATION:PT1H
X-Robots-Tag:noindex
X-PUBLISHED-TTL:PT1H
BEGIN:VTIMEZONE
TZID:Europe/Paris
BEGIN:DAYLIGHT
TZOFFSETFROM:+0100
TZOFFSETTO:+0200
TZNAME:CEST
DTSTART:20240331T010000
END:DAYLIGHT
BEGIN:STANDARD
TZOFFSETFROM:+0200
TZOFFSETTO:+0100
TZNAME:CET
DTSTART:20241027T010000
END:STANDARD
END:VTIMEZONE
BEGIN:VEVENT
DTSTART;TZID=Europe/Paris:20240805T080000
DTEND;TZID=Europe/Paris:20240830T170000
DTSTAMP:20260424T133225
CREATED:20240718T124547Z
LAST-MODIFIED:20240718T124547Z
UID:84218-1722844800-1725037200@www.beaucaire.fr
SUMMARY:Stage de voile et de paddle
DESCRIPTION:TOUS LES JOURS DÈS LE 5 AOÛT STAGE DE VOILE ET DE PADDLE\nEnvie de sensations fortes ?\nVenez participer à un stage de voile et multisports d’une semaine (selon la météo : paddle\, VTT\, jeux d’équipes…).\nApprentissage de la navigation\, de la météo\, des noeuds marins\, de la faune et la flore…\nLe stage se terminera par une surprise et un goûter.\nÀ partir de 9 ans (Test anti panique obligatoire).\nTarif : 98€ la semaine.\nOrganisé par la Mairie de Beaucaire.\nInformations : 04 66 59 37 55 / 06 11 36 53 51 / base.nautique@beaucaire.fr.\n> Base Nautique Municipale Adrien Hardy\, 20 allée du Drac\, Champ de Foire
URL:https://www.beaucaire.fr/evenement/stage-de-voile-et-de-paddle-2/
LOCATION:Base nautique municipale\, Champ de foire\, Beaucaire\, 30300\, France Métropolitaine
CATEGORIES:Sports,Stage de voile et et de paddle
ATTACH;FMTTYPE=image/png:https://www.beaucaire.fr/wp-content/uploads/stage-voile-ou-paddle2024-RS-5-aout.png
END:VEVENT
BEGIN:VEVENT
DTSTART;TZID=Europe/Paris:20240814T080000
DTEND;TZID=Europe/Paris:20240814T170000
DTSTAMP:20260424T133225
CREATED:20240612T095659Z
LAST-MODIFIED:20240612T095659Z
UID:84223-1723622400-1723654800@www.beaucaire.fr
SUMMARY:Activité voile ou paddle
DESCRIPTION:MERCREDI 14 AOÛT | DE 13H45 À 15H15 ET DE 15H30 À 17H\nACTIVITÉ VOILE OU PADDLE\nSelon la météo. Organisée par la Mairie de Beaucaire.\nÀ partir de 7 ans accompagné et de 9 ans en autonomie.\nInformations et inscriptions (obligatoires) au 04 66 59 37 55 ou au 06 11 36 53 51.\nGratuit.\n> Base Nautique Municipale Adrien Hardy\, 20 allée du Drac\, Champ de Foire
URL:https://www.beaucaire.fr/evenement/activite-voile-ou-paddle-7/
LOCATION:Base nautique municipale\, Champ de foire\, Beaucaire\, 30300\, France Métropolitaine
CATEGORIES:Sports
ATTACH;FMTTYPE=image/png:https://www.beaucaire.fr/wp-content/uploads/activite-voile-ou-paddle2024-RS-14-aout.png
END:VEVENT
BEGIN:VEVENT
DTSTART;TZID=Europe/Paris:20240814T090000
DTEND;TZID=Europe/Paris:20240814T120000
DTSTAMP:20260424T133225
CREATED:20240718T143852Z
LAST-MODIFIED:20240718T143852Z
UID:84229-1723626000-1723636800@www.beaucaire.fr
SUMMARY:Promenade environnementale
DESCRIPTION:MERCREDI 14 AOÛT | DE 9H À 12H\nPROMENADE ENVIRONNEMENTALE\nBalade à vélo commentée le long du Rhône. À partir de 12\nans. Organisée par la Mairie de Beaucaire. Informations et\ninscriptions (obligatoires) au 06 48 82 91 62. Gratuit.\nDépart de la Base Nautique Municipale Adrien Hardy\,\n20 allée du Drac\, Champ de Foire
URL:https://www.beaucaire.fr/evenement/promenade-environnementale-8/
LOCATION:Base nautique municipale\, Champ de foire\, Beaucaire\, 30300\, France Métropolitaine
CATEGORIES:Sports
ATTACH;FMTTYPE=image/png:https://www.beaucaire.fr/wp-content/uploads/promenade-environnementale-2024-RS-14-aout-1.png
END:VEVENT
END:VCALENDAR