BEGIN:VCALENDAR
VERSION:2.0
PRODID:-//Le site officiel de la Ville de Beaucaire - ECPv6.7.0//NONSGML v1.0//EN
CALSCALE:GREGORIAN
METHOD:PUBLISH
X-ORIGINAL-URL:https://www.beaucaire.fr
X-WR-CALDESC:Évènements pour Le site officiel de la Ville de Beaucaire
REFRESH-INTERVAL;VALUE=DURATION:PT1H
X-Robots-Tag:noindex
X-PUBLISHED-TTL:PT1H
BEGIN:VTIMEZONE
TZID:Europe/Paris
BEGIN:DAYLIGHT
TZOFFSETFROM:+0100
TZOFFSETTO:+0200
TZNAME:CEST
DTSTART:20240331T010000
END:DAYLIGHT
BEGIN:STANDARD
TZOFFSETFROM:+0200
TZOFFSETTO:+0100
TZNAME:CET
DTSTART:20241027T010000
END:STANDARD
END:VTIMEZONE
BEGIN:VEVENT
DTSTART;TZID=Europe/Paris:20240805T080000
DTEND;TZID=Europe/Paris:20240830T170000
DTSTAMP:20260424T133310
CREATED:20240718T124547Z
LAST-MODIFIED:20240718T124547Z
UID:84218-1722844800-1725037200@www.beaucaire.fr
SUMMARY:Stage de voile et de paddle
DESCRIPTION:TOUS LES JOURS DÈS LE 5 AOÛT STAGE DE VOILE ET DE PADDLE\nEnvie de sensations fortes ?\nVenez participer à un stage de voile et multisports d’une semaine (selon la météo : paddle\, VTT\, jeux d’équipes…).\nApprentissage de la navigation\, de la météo\, des noeuds marins\, de la faune et la flore…\nLe stage se terminera par une surprise et un goûter.\nÀ partir de 9 ans (Test anti panique obligatoire).\nTarif : 98€ la semaine.\nOrganisé par la Mairie de Beaucaire.\nInformations : 04 66 59 37 55 / 06 11 36 53 51 / base.nautique@beaucaire.fr.\n> Base Nautique Municipale Adrien Hardy\, 20 allée du Drac\, Champ de Foire
URL:https://www.beaucaire.fr/evenement/stage-de-voile-et-de-paddle-2/
LOCATION:Base nautique municipale\, Champ de foire\, Beaucaire\, 30300\, France Métropolitaine
CATEGORIES:Sports,Stage de voile et et de paddle
ATTACH;FMTTYPE=image/png:https://www.beaucaire.fr/wp-content/uploads/stage-voile-ou-paddle2024-RS-5-aout.png
END:VEVENT
END:VCALENDAR