BEGIN:VCALENDAR
VERSION:2.0
PRODID:-//Le site officiel de la Ville de Beaucaire - ECPv6.7.0//NONSGML v1.0//EN
CALSCALE:GREGORIAN
METHOD:PUBLISH
X-ORIGINAL-URL:https://www.beaucaire.fr
X-WR-CALDESC:Évènements pour Le site officiel de la Ville de Beaucaire
REFRESH-INTERVAL;VALUE=DURATION:PT1H
X-Robots-Tag:noindex
X-PUBLISHED-TTL:PT1H
BEGIN:VTIMEZONE
TZID:Europe/Paris
BEGIN:DAYLIGHT
TZOFFSETFROM:+0100
TZOFFSETTO:+0200
TZNAME:CEST
DTSTART:20250330T010000
END:DAYLIGHT
BEGIN:STANDARD
TZOFFSETFROM:+0200
TZOFFSETTO:+0100
TZNAME:CET
DTSTART:20251026T010000
END:STANDARD
END:VTIMEZONE
BEGIN:VEVENT
DTSTART;TZID=Europe/Paris:20250615T080000
DTEND;TZID=Europe/Paris:20250615T170000
DTSTAMP:20260423T212443
CREATED:20250613T140201Z
LAST-MODIFIED:20250613T155830Z
UID:90948-1749974400-1750006800@www.beaucaire.fr
SUMMARY:Gambade de Saint-Roman
DESCRIPTION:Course pédestre : 21ème édition.\n– 8h : Ugernum Trail de 24 km (800D+). Passage dans l’enceinte du\nChâteau fort\, massif de la triple levée\, Abbaye de Saint-Roman\, pic\nde l’Aiguille.\n– 8h05 : Traditionnelle course enfant.\n– 9h : La Gambade de 12 km (300D+). Peu de bitume et un sentier 90 %\nnature qui vous mènera au massif de Saint-Roman\, d’où vous pourrez\ndécouvrir une très belle vue sur le géant de Provence.\n– 9h : Marche nordique et randonnée de 10km.\n– 9h30 : La petite Gambade de 7 km (120D+). Alliant route et nature\navec un passage sur la Voie Verte.\nOrganisée par l’association Courir à Beaucaire en partenariat avec\nla Mairie de Beaucaire.\nInformations au 06 08 48 53 27 / gambade-de-saint-roman.fr et sur\ncourirabeaucaire@gmail.com\nInscriptions sur endurancechrono.com.\nDéparts du Casino Municipal\, 1 allée du Casino\, Champ de Foire
URL:https://www.beaucaire.fr/evenement/gambade-de-saint-roman-4/
LOCATION:Champ de foire\, Champ de foire\, Beaucaire\, 30300\, France
CATEGORIES:Événements,Sports
ATTACH;FMTTYPE=image/png:https://www.beaucaire.fr/wp-content/uploads/gambade-rs.png
END:VEVENT
END:VCALENDAR