BEGIN:VCALENDAR
VERSION:2.0
PRODID:-//Le site officiel de la Ville de Beaucaire - ECPv6.7.0//NONSGML v1.0//EN
CALSCALE:GREGORIAN
METHOD:PUBLISH
X-ORIGINAL-URL:https://www.beaucaire.fr
X-WR-CALDESC:Évènements pour Le site officiel de la Ville de Beaucaire
REFRESH-INTERVAL;VALUE=DURATION:PT1H
X-Robots-Tag:noindex
X-PUBLISHED-TTL:PT1H
BEGIN:VTIMEZONE
TZID:Europe/Paris
BEGIN:DAYLIGHT
TZOFFSETFROM:+0100
TZOFFSETTO:+0200
TZNAME:CEST
DTSTART:20250330T010000
END:DAYLIGHT
BEGIN:STANDARD
TZOFFSETFROM:+0200
TZOFFSETTO:+0100
TZNAME:CET
DTSTART:20251026T010000
END:STANDARD
END:VTIMEZONE
BEGIN:VEVENT
DTSTART;TZID=Europe/Paris:20250707T080000
DTEND;TZID=Europe/Paris:20250829T170000
DTSTAMP:20260423T195123
CREATED:20250625T130036Z
LAST-MODIFIED:20250625T130036Z
UID:91734-1751875200-1756486800@www.beaucaire.fr
SUMMARY:STAGE DE VOILE ET DE PADDLE
DESCRIPTION:Envie de sensations fortes ? Venez participer à un stage de voile et multisports d’une semaine (selon la météo : paddle\, VTT\, jeux d’équipes…). Apprentissage de la navigation\, de la météo\, des noeuds marins\, de la faune et la flore… À partir de 9 ans (Test anti panique obligatoire). Tarif : 98€ la semaine. Organisé par la Mairie de Beaucaire.\nInfos : 04 66 59 37 55 / 06 11 36 53 51 / base.nautique@beaucaire.fr.
URL:https://www.beaucaire.fr/evenement/stage-de-voile-et-de-paddle-3/
LOCATION:Base nautique municipale\, Champ de foire\, Beaucaire\, 30300\, France Métropolitaine
CATEGORIES:Sports,Stage de voile et et de paddle
ATTACH;FMTTYPE=image/webp:https://www.beaucaire.fr/wp-content/uploads/20241002-Ecole-de-voile-14.webp
END:VEVENT
BEGIN:VEVENT
DTSTART;TZID=Europe/Paris:20250730T090000
DTEND;TZID=Europe/Paris:20250730T120000
DTSTAMP:20260423T195123
CREATED:20250612T101828Z
LAST-MODIFIED:20250613T125625Z
UID:90909-1753866000-1753876800@www.beaucaire.fr
SUMMARY:Promenade Environnementale
DESCRIPTION:Balade à vélo commentée le long du Rhône. À partir de 10 ans.\nOrganisée par la Mairie de Beaucaire. Informations et inscriptions\n(obligatoires) au 06 48 82 91 62. Gratuit.\nDépart de la Base Nautique Municipale Adrien Hardy\, 20 allée\ndu Drac\, Champ de Foire
URL:https://www.beaucaire.fr/evenement/promenade-environnementale-10/
CATEGORIES:Sports
ATTACH;FMTTYPE=image/jpeg:https://www.beaucaire.fr/wp-content/uploads/20240731-Promenade-environnementale-6.jpg
END:VEVENT
BEGIN:VEVENT
DTSTART;TZID=Europe/Paris:20250730T133000
DTEND;TZID=Europe/Paris:20250730T170000
DTSTAMP:20260423T195123
CREATED:20250612T101931Z
LAST-MODIFIED:20250613T125601Z
UID:90912-1753882200-1753894800@www.beaucaire.fr
SUMMARY:Activité Voile ou Paddle
DESCRIPTION:Initiation aux sports nautiques organisée par la Mairie de Beaucaire.\nÀ partir de 7 ans accompagné et de 9 ans en autonomie. Informations\net inscriptions (obligatoires) au 04 66 59 37 55 ou au 06 11 36 53 51.\nGratuit.\nBase Nautique Municipale Adrien Hardy\, 20 allée du Drac\,\nChamp de Foire
URL:https://www.beaucaire.fr/evenement/activite-voile-ou-paddle-14/
CATEGORIES:Sports
ATTACH;FMTTYPE=image/jpeg:https://www.beaucaire.fr/wp-content/uploads/activite-voile-ou-paddle-2-24.jpg
END:VEVENT
END:VCALENDAR