BEGIN:VCALENDAR
VERSION:2.0
PRODID:-//Le site officiel de la Ville de Beaucaire - ECPv6.7.0//NONSGML v1.0//EN
CALSCALE:GREGORIAN
METHOD:PUBLISH
X-ORIGINAL-URL:https://www.beaucaire.fr
X-WR-CALDESC:Évènements pour Le site officiel de la Ville de Beaucaire
REFRESH-INTERVAL;VALUE=DURATION:PT1H
X-Robots-Tag:noindex
X-PUBLISHED-TTL:PT1H
BEGIN:VTIMEZONE
TZID:Europe/Paris
BEGIN:DAYLIGHT
TZOFFSETFROM:+0100
TZOFFSETTO:+0200
TZNAME:CEST
DTSTART:20250330T010000
END:DAYLIGHT
BEGIN:STANDARD
TZOFFSETFROM:+0200
TZOFFSETTO:+0100
TZNAME:CET
DTSTART:20251026T010000
END:STANDARD
END:VTIMEZONE
BEGIN:VEVENT
DTSTART;TZID=Europe/Paris:20250804T090000
DTEND;TZID=Europe/Paris:20250926T170000
DTSTAMP:20260423T165508
CREATED:20250617T083812Z
LAST-MODIFIED:20250622T123319Z
UID:90567-1754298000-1758906000@www.beaucaire.fr
SUMMARY:Stage de voile et de paddle Été 2025
DESCRIPTION:DU 4 AOÛT AU 29 AOÛT : STAGE DE VOILE ET DE PADDLE\n\nEnvie de sensations fortes ?\nVenez participer à un stage de voile et multisports d’une semaine (selon la météo : paddle\, VTT\, jeux d’équipes…).\nApprentissage de la navigation\, de la météo\, des nœuds marins\, de la faune et la flore…\nLe stage se terminera par une surprise et un goûter.\nEnfants de 9 ans à 14 ans (Test anti panique ou Brevet de 25m obligatoire).\nTarif : 98€ la semaine/enfant.\nOrganisé par la Mairie de Beaucaire.\nInformations et prise de RDV : 04 66 59 37 55 / 06 11 36 53 51 / base.nautique@beaucaire.fr.\n\n> Base Nautique Municipale Adrien Hardy\, 20 allée du Drac\, Champ de Foire
URL:https://www.beaucaire.fr/evenement/stage-de-voile-et-de-paddle-ete-2025/
LOCATION:Base nautique municipale\, Champ de foire\, Beaucaire\, 30300\, France Métropolitaine
CATEGORIES:Sports,Stage de voile et et de paddle
ATTACH;FMTTYPE=image/webp:https://www.beaucaire.fr/wp-content/uploads/RS-stage-de-voiles-ete-2025-scaled.webp
END:VEVENT
END:VCALENDAR